BEGIN:VCALENDAR
VERSION:2.0
PRODID:-//eventon.com NONSGML v1.0//EN
BEGIN:VEVENT
UID:69ed6ff6b2257
DTSTAMP:20260425T185254
DTSTART:20251129T150000Z
DTEND:20251129T163000Z
LOCATION:Victory World Outreach Mesa 
SUMMARY:Men's Breakfast
DESCRIPTION: Men's Breakfast at 8:00am. Equipping Godly men for active duty in the kingdom of God. We look forward to seeing you.
END:VEVENT
END:VCALENDAR