BEGIN:VCALENDAR
VERSION:2.0
PRODID:-//eventon.com NONSGML v1.0//EN
BEGIN:VEVENT
UID:69ed5a30b67cc
DTSTAMP:20260425T172000
DTSTART:20250322T170000Z
DTEND:20250322T190000Z
LOCATION:Victory World Outreach Mesa 
SUMMARY:Community Outreach
DESCRIPTION: Community Outreach at 10:00am
END:VEVENT
END:VCALENDAR