BEGIN:VCALENDAR
VERSION:2.0
PRODID:-//eventon.com NONSGML v1.0//EN
BEGIN:VEVENT
UID:69ed41a815605
DTSTAMP:20260425T153520
DTSTART:20250308T170000Z
DTEND:20250308T190000Z
LOCATION:Victory World Outreach Mesa 
SUMMARY:Community Outreach
DESCRIPTION: Community Outreach at 10:00am
END:VEVENT
END:VCALENDAR