BEGIN:VCALENDAR
VERSION:2.0
PRODID:-//eventon.com NONSGML v1.0//EN
BEGIN:VEVENT
UID:69ed28b3ef4a3
DTSTAMP:20260425T134851
DTSTART:20250222T170000Z
DTEND:20250222T200000Z
LOCATION:Victory World Outreach Mesa 
SUMMARY:Kids Fun Day
DESCRIPTION: Kids Fun Day at 10:00am
END:VEVENT
END:VCALENDAR