BEGIN:VCALENDAR
VERSION:2.0
PRODID:-//eventon.com NONSGML v1.0//EN
BEGIN:VEVENT
UID:69ed11e601931
DTSTAMP:20260425T121134
DTSTART:20250301T150000Z
DTEND:20250301T163000Z
LOCATION:Victory World Outreach Mesa 
SUMMARY:Men's Breakfast
DESCRIPTION: Men's Breakfast at 8:00am
END:VEVENT
END:VCALENDAR