BEGIN:VCALENDAR
VERSION:2.0
PRODID:-//eventon.com NONSGML v1.0//EN
BEGIN:VEVENT
UID:69ecfa268ac85
DTSTAMP:20260425T103014
DTSTART:20250215T160000Z
DTEND:20250215T173000Z
LOCATION:Victory World Outreach Mesa 
SUMMARY:Couple's Breakfast
DESCRIPTION: Couple's Breakfast at 9:00am
END:VEVENT
END:VCALENDAR