BEGIN:VCALENDAR
VERSION:2.0
PRODID:-//eventon.com NONSGML v1.0//EN
BEGIN:VEVENT
UID:69ece239cba17
DTSTAMP:20260425T084809
DTSTART:20251115T170000Z
DTEND:20251115T200000Z
LOCATION:Victory World Outreach Mesa 
SUMMARY:Ladies Fall Fellowship  Brunch
DESCRIPTION: Ladies Fellowship Brunch - come enjoy a time of food\,  fun and fellowship. RSVP by Sunday\,  11/9 to 480-205-6297
END:VEVENT
END:VCALENDAR