BEGIN:VCALENDAR
VERSION:2.0
PRODID:-//eventon.com NONSGML v1.0//EN
BEGIN:VEVENT
UID:69ecc9d2c5859
DTSTAMP:20260425T070402
DTSTART:20250226T013000Z
DTEND:20250226T023000Z
LOCATION:Victory World Outreach Mesa 
SUMMARY:Ladies Fellowship
DESCRIPTION: Ladies Fellowship at 6:30pm
END:VEVENT
END:VCALENDAR