BEGIN:VCALENDAR
VERSION:2.0
PRODID:-//eventon.com NONSGML v1.0//EN
BEGIN:VEVENT
UID:69ecb4f9d7efd
DTSTAMP:20260425T053505
DTSTART:20250327T020000Z
DTEND:20250327T030000Z
LOCATION:Victory World Outreach Mesa 
SUMMARY:Bible Study
DESCRIPTION: Bible Study Service at 7:00pm
END:VEVENT
END:VCALENDAR