BEGIN:VCALENDAR
VERSION:2.0
PRODID:-//eventon.com NONSGML v1.0//EN
BEGIN:VEVENT
UID:69e9fda352336
DTSTAMP:20260423T040819
DTSTART:20250227T020000Z
DTEND:20250227T030000Z
LOCATION:Victory World Outreach Mesa 
SUMMARY:Bible Study
DESCRIPTION: Bible Study Service at 7:00pm
END:VEVENT
END:VCALENDAR