BEGIN:VCALENDAR
VERSION:2.0
PRODID:-//eventon.com NONSGML v1.0//EN
BEGIN:VEVENT
UID:69e9f767f29b8
DTSTAMP:20260423T034143
DTSTART:20250220T020000Z
DTEND:20250220T030000Z
LOCATION:Victory World Outreach Mesa 
SUMMARY:Bible Study
DESCRIPTION: Bible Study Service at 7:00pm
END:VEVENT
END:VCALENDAR