BEGIN:VCALENDAR
VERSION:2.0
PRODID:-//eventon.com NONSGML v1.0//EN
BEGIN:VEVENT
UID:69e9caef36fde
DTSTAMP:20260423T003159
DTSTART:20250313T020000Z
DTEND:20250313T030000Z
LOCATION:Victory World Outreach Mesa 
SUMMARY:Preacherama
DESCRIPTION: Preacherama Service at 7:00pm
END:VEVENT
END:VCALENDAR