BEGIN:VCALENDAR
VERSION:2.0
PRODID:-//eventon.com NONSGML v1.0//EN
BEGIN:VEVENT
UID:69e9c607253d3
DTSTAMP:20260423T001103
DTSTART:20250213T020000Z
DTEND:20250213T030000Z
LOCATION:Victory World Outreach Mesa 
SUMMARY:Preacherama
DESCRIPTION: Preacherama Service at 7:00pm
END:VEVENT
END:VCALENDAR