BEGIN:VCALENDAR
VERSION:2.0
PRODID:-//eventon.com NONSGML v1.0//EN
BEGIN:VEVENT
UID:69e99963086df
DTSTAMP:20260422T210035
DTSTART:20250306T020000Z
DTEND:20250306T030000Z
LOCATION:Victory World Outreach Mesa 
SUMMARY:Prayer & Fasting Service
DESCRIPTION: Prayer & Fasting Service at 7:00pm
END:VEVENT
END:VCALENDAR