BEGIN:VCALENDAR
VERSION:2.0
PRODID:-//eventon.com NONSGML v1.0//EN
BEGIN:VEVENT
UID:69e966cccd4c0
DTSTAMP:20260422T172444
DTSTART:20250330T170000Z
DTEND:20250330T190000Z
LOCATION:Victory World Outreach Mesa 
SUMMARY:Worship Service 10:00am
DESCRIPTION: Worship Service 10:00am
END:VEVENT
END:VCALENDAR