BEGIN:VCALENDAR
VERSION:2.0
PRODID:-//eventon.com NONSGML v1.0//EN
BEGIN:VEVENT
UID:69e965d033d4e
DTSTAMP:20260422T172032
DTSTART:20250323T170000Z
DTEND:20250323T190000Z
LOCATION:Victory World Outreach Mesa 
SUMMARY:Worship Service 10:00am
DESCRIPTION: Worship Service 10:00am
END:VEVENT
END:VCALENDAR