BEGIN:VCALENDAR
VERSION:2.0
PRODID:-//eventon.com NONSGML v1.0//EN
BEGIN:VEVENT
UID:69e907400d913
DTSTAMP:20260422T103704
DTSTART:20250223T170000Z
DTEND:20250223T190000Z
LOCATION:Victory World Outreach Mesa 
SUMMARY:Worship Service 10:00am
DESCRIPTION: Worship Service 10:00am
END:VEVENT
END:VCALENDAR