BEGIN:VCALENDAR
VERSION:2.0
PRODID:-//eventon.com NONSGML v1.0//EN
BEGIN:VEVENT
UID:69e9068abb04d
DTSTAMP:20260422T103402
DTSTART:20250216T170000Z
DTEND:20250216T190000Z
LOCATION:Victory World Outreach Mesa 
SUMMARY:Worship Service 10:00am & Youth Bowling
DESCRIPTION: Worship Service 10:00am followed by Youth Bowling
END:VEVENT
END:VCALENDAR