BEGIN:VCALENDAR
VERSION:2.0
PRODID:-//eventon.com NONSGML v1.0//EN
BEGIN:VEVENT
UID:69e8d65d503c6
DTSTAMP:20260422T070829
DTSTART:20250209T170000Z
DTEND:20250209T190000Z
LOCATION:Victory World Outreach Mesa 
SUMMARY:Worship Service 10:00am
DESCRIPTION: Worship Service 10:00am
END:VEVENT
END:VCALENDAR