BEGIN:VCALENDAR
VERSION:2.0
PRODID:-//eventon.com NONSGML v1.0//EN
BEGIN:VEVENT
UID:69e8bf9ab33e1
DTSTAMP:20260422T053122
DTSTART:20250302T170000Z
DTEND:20250302T190000Z
LOCATION:Victory World Outreach Mesa 
SUMMARY:Mission Sunday & Fellowship Luncheon
DESCRIPTION: Worship Service 10:00am - Mission Sunday & Fellowship Luncheon
END:VEVENT
END:VCALENDAR