BEGIN:VCALENDAR
VERSION:2.0
PRODID:-//eventon.com NONSGML v1.0//EN
BEGIN:VEVENT
UID:69e8a4dd6748f
DTSTAMP:20260422T033717
DTSTART:20250202T170000Z
DTEND:20250202T190000Z
LOCATION:Victory World Outreach Mesa 
SUMMARY:Mission Sunday & Fellowship Luncheon
DESCRIPTION: Worship Service 10:00am - Mission Sunday & Fellowship Luncheon
END:VEVENT
END:VCALENDAR