BEGIN:VCALENDAR
VERSION:2.0
PRODID:-//eventon.com NONSGML v1.0//EN
BEGIN:VEVENT
UID:69e88c5d0db75
DTSTAMP:20260422T015245
DTSTART:20210424T150000Z
DTEND:20210424T170000Z
LOCATION:
SUMMARY:Men's Breakfast
DESCRIPTION: 
END:VEVENT
END:VCALENDAR